BEGIN:VCALENDAR
VERSION:2.0
PRODID:-//Syracuse Chapter 3424 - ECPv6.15.1.1//NONSGML v1.0//EN
CALSCALE:GREGORIAN
METHOD:PUBLISH
X-ORIGINAL-URL:https://www.syracusehog.com
X-WR-CALDESC:Events for Syracuse Chapter 3424
REFRESH-INTERVAL;VALUE=DURATION:PT1H
X-Robots-Tag:noindex
X-PUBLISHED-TTL:PT1H
BEGIN:VTIMEZONE
TZID:America/New_York
BEGIN:DAYLIGHT
TZOFFSETFROM:-0500
TZOFFSETTO:-0400
TZNAME:EDT
DTSTART:20240310T070000
END:DAYLIGHT
BEGIN:STANDARD
TZOFFSETFROM:-0400
TZOFFSETTO:-0500
TZNAME:EST
DTSTART:20241103T060000
END:STANDARD
END:VTIMEZONE
BEGIN:VEVENT
DTSTART;TZID=America/New_York:20240519T080000
DTEND;TZID=America/New_York:20240519T170000
DTSTAMP:20260425T075411
CREATED:20240428T160457Z
LAST-MODIFIED:20240523T011257Z
UID:5336-1716105600-1716138000@www.syracusehog.com
SUMMARY:Coachlight Inn Restaurant Lunch Ride
DESCRIPTION:Changed due to weather!!! May 19th- meet at Performance\, KSU 10am. Lunch ride to Coachlight Inn in the Adirondacks
URL:https://www.syracusehog.com/event/lunch-ride-to-coachlight-inn-restaurant/
END:VEVENT
END:VCALENDAR