BEGIN:VCALENDAR
VERSION:2.0
PRODID:-//Syracuse Chapter 3424 - ECPv6.15.1.1//NONSGML v1.0//EN
CALSCALE:GREGORIAN
METHOD:PUBLISH
X-WR-CALNAME:Syracuse Chapter 3424
X-ORIGINAL-URL:https://www.syracusehog.com
X-WR-CALDESC:Events for Syracuse Chapter 3424
REFRESH-INTERVAL;VALUE=DURATION:PT1H
X-Robots-Tag:noindex
X-PUBLISHED-TTL:PT1H
BEGIN:VTIMEZONE
TZID:America/New_York
BEGIN:DAYLIGHT
TZOFFSETFROM:-0500
TZOFFSETTO:-0400
TZNAME:EDT
DTSTART:20250309T070000
END:DAYLIGHT
BEGIN:STANDARD
TZOFFSETFROM:-0400
TZOFFSETTO:-0500
TZNAME:EST
DTSTART:20251102T060000
END:STANDARD
END:VTIMEZONE
BEGIN:VEVENT
DTSTART;TZID=America/New_York:20250625T080000
DTEND;TZID=America/New_York:20250629T170000
DTSTAMP:20260424T065005
CREATED:20250216T221106Z
LAST-MODIFIED:20250518T181047Z
UID:5433-1750838400-1751216400@www.syracusehog.com
SUMMARY:Appalachian Thunder HOG Rally (MD)
DESCRIPTION:Registration is open for Appalachian Thunder HOG Rally \nFeel free to make a meeting place  to ride as a group and update this event with info if you are going. \n 
URL:https://www.syracusehog.com/event/appalachian-thunder-hog-rally-md/
END:VEVENT
BEGIN:VEVENT
DTSTART;TZID=America/New_York:20250627T080000
DTEND;TZID=America/New_York:20250629T170000
DTSTAMP:20260424T065005
CREATED:20250216T222519Z
LAST-MODIFIED:20250518T180913Z
UID:5436-1751011200-1751216400@www.syracusehog.com
SUMMARY:Thousand Islands River Run Bike Rally in Abay
DESCRIPTION:18th annual bike rally in Alexandria Bay. \nA couple of us are riding up on Saturday and staying overnight\, book your hotel asap! We will meet at Good Golly’s in central Square for breakfast at 9am: 2916 State Route 49. Feel free to meet us even if you are just going for the day.
URL:https://www.syracusehog.com/event/thousand-islands-river-run-bike-rally-in-abay/
END:VEVENT
END:VCALENDAR