BEGIN:VCALENDAR
VERSION:2.0
PRODID:-//Syracuse Chapter 3424 - ECPv6.15.1.1//NONSGML v1.0//EN
CALSCALE:GREGORIAN
METHOD:PUBLISH
X-WR-CALNAME:Syracuse Chapter 3424
X-ORIGINAL-URL:https://www.syracusehog.com
X-WR-CALDESC:Events for Syracuse Chapter 3424
REFRESH-INTERVAL;VALUE=DURATION:PT1H
X-Robots-Tag:noindex
X-PUBLISHED-TTL:PT1H
BEGIN:VTIMEZONE
TZID:America/New_York
BEGIN:DAYLIGHT
TZOFFSETFROM:-0500
TZOFFSETTO:-0400
TZNAME:EDT
DTSTART:20250309T070000
END:DAYLIGHT
BEGIN:STANDARD
TZOFFSETFROM:-0400
TZOFFSETTO:-0500
TZNAME:EST
DTSTART:20251102T060000
END:STANDARD
END:VTIMEZONE
BEGIN:VEVENT
DTSTART;TZID=America/New_York:20250621T090000
DTEND;TZID=America/New_York:20250621T100000
DTSTAMP:20260424T113506
CREATED:20250322T154912Z
LAST-MODIFIED:20250322T172134Z
UID:5465-1750496400-1750500000@www.syracusehog.com
SUMMARY:HOG Meeting
DESCRIPTION:June 21\, 2025\, \nAt PHD\, enter through employees entrance on the right side of the dealership
URL:https://www.syracusehog.com/event/hog-meeting-3/
CATEGORIES:H.O.G. Chapter Meeting,Meeting
ORGANIZER;CN="Dan Sturtz":MAILTO:membership@syracusehog.com
END:VEVENT
END:VCALENDAR