BEGIN:VCALENDAR
VERSION:2.0
PRODID:-//Syracuse Chapter 3424 - ECPv6.15.1.1//NONSGML v1.0//EN
CALSCALE:GREGORIAN
METHOD:PUBLISH
X-ORIGINAL-URL:https://www.syracusehog.com
X-WR-CALDESC:Events for Syracuse Chapter 3424
REFRESH-INTERVAL;VALUE=DURATION:PT1H
X-Robots-Tag:noindex
X-PUBLISHED-TTL:PT1H
BEGIN:VTIMEZONE
TZID:America/New_York
BEGIN:DAYLIGHT
TZOFFSETFROM:-0500
TZOFFSETTO:-0400
TZNAME:EDT
DTSTART:20240310T070000
END:DAYLIGHT
BEGIN:STANDARD
TZOFFSETFROM:-0400
TZOFFSETTO:-0500
TZNAME:EST
DTSTART:20241103T060000
END:STANDARD
END:VTIMEZONE
BEGIN:VEVENT
DTSTART;VALUE=DATE:20240727
DTEND;VALUE=DATE:20240728
DTSTAMP:20260424T055223
CREATED:20240803T040034Z
LAST-MODIFIED:20240727T001950Z
UID:5292-1722038400-1722124799@www.syracusehog.com
SUMMARY:Taughannock Falls
DESCRIPTION:Ed Van Auken will lead this ride \nDetails to come
URL:https://www.syracusehog.com/event/taughannock-falls/
CATEGORIES:H.O.G. Ride
END:VEVENT
BEGIN:VEVENT
DTSTART;TZID=America/New_York:20240630T080000
DTEND;TZID=America/New_York:20240630T170000
DTSTAMP:20260424T055223
CREATED:20240321T224606Z
LAST-MODIFIED:20240321T224933Z
UID:5294-1719734400-1719766800@www.syracusehog.com
SUMMARY:Scavenger Hunt Ride
DESCRIPTION:More details coming. \nCome to the meetings to find out more! \nThere will be prizes to the winners!
URL:https://www.syracusehog.com/event/scavenger-hunt-ride/
CATEGORIES:H.O.G. Ride
END:VEVENT
BEGIN:VEVENT
DTSTART;VALUE=DATE:20240622
DTEND;VALUE=DATE:20240623
DTSTAMP:20260424T055223
CREATED:20240321T223940Z
LAST-MODIFIED:20240523T010726Z
UID:5290-1719014400-1719100799@www.syracusehog.com
SUMMARY:Cooperstown Ride
DESCRIPTION:Ed Van Auken will led this ride to Cooperstown on June 22nd. Meet at Performance at 9am\, KSU 9:30am
URL:https://www.syracusehog.com/event/cooperstown-ride/
LOCATION:Performance Harley-Davidson\, 807 N. Geddes Street\, Syracuse\, 13204\, United States
CATEGORIES:H.O.G. Ride
END:VEVENT
BEGIN:VEVENT
DTSTART;TZID=America/New_York:20240518T090000
DTEND;TZID=America/New_York:20240518T170000
DTSTAMP:20260424T055223
CREATED:20240321T230832Z
LAST-MODIFIED:20240321T232024Z
UID:5299-1716022800-1716051600@www.syracusehog.com
SUMMARY:May Monthly Meeting
DESCRIPTION:This will be a ride meeting only \nAny questions or concerns please email \nme
URL:https://www.syracusehog.com/event/may-monthly-meeting/
LOCATION:Performance Harley-Davidson\, 807 N. Geddes Street\, Syracuse\, 13204\, United States
CATEGORIES:H.O.G. Ride,Ride
END:VEVENT
END:VCALENDAR