BEGIN:VCALENDAR
VERSION:2.0
PRODID:-//Syracuse Chapter 3424 - ECPv6.15.1.1//NONSGML v1.0//EN
CALSCALE:GREGORIAN
METHOD:PUBLISH
X-WR-CALNAME:Syracuse Chapter 3424
X-ORIGINAL-URL:https://www.syracusehog.com
X-WR-CALDESC:Events for Syracuse Chapter 3424
REFRESH-INTERVAL;VALUE=DURATION:PT1H
X-Robots-Tag:noindex
X-PUBLISHED-TTL:PT1H
BEGIN:VTIMEZONE
TZID:America/New_York
BEGIN:DAYLIGHT
TZOFFSETFROM:-0500
TZOFFSETTO:-0400
TZNAME:EDT
DTSTART:20240310T070000
END:DAYLIGHT
BEGIN:STANDARD
TZOFFSETFROM:-0400
TZOFFSETTO:-0500
TZNAME:EST
DTSTART:20241103T060000
END:STANDARD
BEGIN:DAYLIGHT
TZOFFSETFROM:-0500
TZOFFSETTO:-0400
TZNAME:EDT
DTSTART:20250309T070000
END:DAYLIGHT
BEGIN:STANDARD
TZOFFSETFROM:-0400
TZOFFSETTO:-0500
TZNAME:EST
DTSTART:20251102T060000
END:STANDARD
END:VTIMEZONE
BEGIN:VEVENT
DTSTART;TZID=America/New_York:20250720T120000
DTEND;TZID=America/New_York:20250720T170000
DTSTAMP:20260424T100140
CREATED:20250216T222803Z
LAST-MODIFIED:20250518T171933Z
UID:5438-1753012800-1753030800@www.syracusehog.com
SUMMARY:HOG Picnic
DESCRIPTION:July 20th at 1pm: Annual summer HOG picnic at Chapman Park in Bridgeport 1463 State Route 31. We have the gazebo by the pier. Games\, fishing\, swimming\, and a playground so kids and grandkids are welcome!
URL:https://www.syracusehog.com/event/hog-picnic/
LOCATION:Chapman Park\, 1463 State Route 31\, Bridgeport\, NY\, United States
CATEGORIES:H.O.G. Event
END:VEVENT
BEGIN:VEVENT
DTSTART;TZID=America/New_York:20250719T120000
DTEND;TZID=America/New_York:20250719T170000
DTSTAMP:20260424T100140
CREATED:20250216T202624Z
LAST-MODIFIED:20250518T173411Z
UID:5416-1752926400-1752944400@www.syracusehog.com
SUMMARY:Biker Saturdays at Performance
DESCRIPTION:Biker Saturdays: music by Stroke featuring Isreal Hagan\, food and vendors!
URL:https://www.syracusehog.com/event/biker-saturdays-at-performance-2/
LOCATION:Performance Harley-Davidson\, 807 N. Geddes Street\, Syracuse\, 13204\, United States
END:VEVENT
BEGIN:VEVENT
DTSTART;TZID=America/New_York:20250705T120000
DTEND;TZID=America/New_York:20250705T150000
DTSTAMP:20260424T100140
CREATED:20250216T202520Z
LAST-MODIFIED:20250518T173431Z
UID:5414-1751716800-1751727600@www.syracusehog.com
SUMMARY:Biker Saturdays at Performance
DESCRIPTION:Biker Saturdays: music by Pumbaa\, food and vendors!
URL:https://www.syracusehog.com/event/biker-saturdays-at-performance/
LOCATION:Performance Harley-Davidson\, 807 N. Geddes Street\, Syracuse\, 13204\, United States
END:VEVENT
BEGIN:VEVENT
DTSTART;TZID=America/New_York:20250627T080000
DTEND;TZID=America/New_York:20250629T170000
DTSTAMP:20260424T100140
CREATED:20250216T222519Z
LAST-MODIFIED:20250518T180913Z
UID:5436-1751011200-1751216400@www.syracusehog.com
SUMMARY:Thousand Islands River Run Bike Rally in Abay
DESCRIPTION:18th annual bike rally in Alexandria Bay. \nA couple of us are riding up on Saturday and staying overnight\, book your hotel asap! We will meet at Good Golly’s in central Square for breakfast at 9am: 2916 State Route 49. Feel free to meet us even if you are just going for the day.
URL:https://www.syracusehog.com/event/thousand-islands-river-run-bike-rally-in-abay/
END:VEVENT
BEGIN:VEVENT
DTSTART;TZID=America/New_York:20250625T080000
DTEND;TZID=America/New_York:20250629T170000
DTSTAMP:20260424T100140
CREATED:20250216T221106Z
LAST-MODIFIED:20250518T181047Z
UID:5433-1750838400-1751216400@www.syracusehog.com
SUMMARY:Appalachian Thunder HOG Rally (MD)
DESCRIPTION:Registration is open for Appalachian Thunder HOG Rally \nFeel free to make a meeting place  to ride as a group and update this event with info if you are going. \n 
URL:https://www.syracusehog.com/event/appalachian-thunder-hog-rally-md/
END:VEVENT
BEGIN:VEVENT
DTSTART;TZID=America/New_York:20250621T120000
DTEND;TZID=America/New_York:20250621T150000
DTSTAMP:20260424T100140
CREATED:20250216T201803Z
LAST-MODIFIED:20250518T173236Z
UID:5408-1750507200-1750518000@www.syracusehog.com
SUMMARY:Biker Saturdays at Performance Harley Dealership
DESCRIPTION:Biker Saturdays: music by Band by the River\, food and vendors!
URL:https://www.syracusehog.com/event/biker-saturdays-at-performance-harley-dealership/
LOCATION:Performance Harley-Davidson\, 807 N. Geddes Street\, Syracuse\, 13204\, United States
END:VEVENT
BEGIN:VEVENT
DTSTART;TZID=America/New_York:20250621T090000
DTEND;TZID=America/New_York:20250621T100000
DTSTAMP:20260424T100140
CREATED:20250322T154912Z
LAST-MODIFIED:20250322T172134Z
UID:5465-1750496400-1750500000@www.syracusehog.com
SUMMARY:HOG Meeting
DESCRIPTION:June 21\, 2025\, \nAt PHD\, enter through employees entrance on the right side of the dealership
URL:https://www.syracusehog.com/event/hog-meeting-3/
CATEGORIES:H.O.G. Chapter Meeting,Meeting
ORGANIZER;CN="Dan Sturtz":MAILTO:membership@syracusehog.com
END:VEVENT
BEGIN:VEVENT
DTSTART;TZID=America/New_York:20250614T080000
DTEND;TZID=America/New_York:20250622T170000
DTSTAMP:20260424T100140
CREATED:20250412T170218Z
LAST-MODIFIED:20250412T170218Z
UID:5498-1749888000-1750611600@www.syracusehog.com
SUMMARY:Laconia Bike Week
DESCRIPTION:Laconia NH 102 Anniversary-oldest national bike rally in the US
URL:https://www.syracusehog.com/event/laconia-bike-week/
END:VEVENT
BEGIN:VEVENT
DTSTART;TZID=America/New_York:20250608T120000
DTEND;TZID=America/New_York:20250608T170000
DTSTAMP:20260424T100140
CREATED:20250215T013705Z
LAST-MODIFIED:20250518T170840Z
UID:5395-1749384000-1749402000@www.syracusehog.com
SUMMARY:Fergie's Memorial Ride
DESCRIPTION:In memory of Fergie: June 8th at 12pm\, meet at Cicero Fire Department 8377 Brewerton Rd (Rt 31 & 11: Station 1). We will gather at the Memorial Park where Fergie’s brick is. From here we will head to Spookhill in Adams Center for lunch and then Scoops Ice Cream in Fulton\, Fergie’s favorite ice cream stop.
URL:https://www.syracusehog.com/event/fergies-memorial-ride-2/
LOCATION:Performance Harley-Davidson\, 807 N. Geddes Street\, Syracuse\, 13204\, United States
END:VEVENT
BEGIN:VEVENT
DTSTART;TZID=America/New_York:20250607T120000
DTEND;TZID=America/New_York:20250607T150000
DTSTAMP:20260424T100140
CREATED:20250518T173650Z
LAST-MODIFIED:20250518T173915Z
UID:5523-1749297600-1749308400@www.syracusehog.com
SUMMARY:Biker Saturdays at Performance
DESCRIPTION:Biker Saturdays: music by Seattle Sons\, food and vendors!
URL:https://www.syracusehog.com/event/biker-saturdays-at-performance-4/
LOCATION:Performance Harley-Davidson\, 807 N. Geddes Street\, Syracuse\, 13204\, United States
END:VEVENT
BEGIN:VEVENT
DTSTART;TZID=America/New_York:20250527T080000
DTEND;TZID=America/New_York:20250531T170000
DTSTAMP:20260424T100140
CREATED:20250216T230019Z
LAST-MODIFIED:20250216T230019Z
UID:5449-1748332800-1748710800@www.syracusehog.com
SUMMARY:Americade in Lake George
DESCRIPTION:
URL:https://www.syracusehog.com/event/americade-in-lake-george/
END:VEVENT
BEGIN:VEVENT
DTSTART;TZID=America/New_York:20250517T120000
DTEND;TZID=America/New_York:20250517T170000
DTSTAMP:20260424T100140
CREATED:20250216T200929Z
LAST-MODIFIED:20250322T154655Z
UID:5406-1747483200-1747501200@www.syracusehog.com
SUMMARY:Performance Test Ride Event
DESCRIPTION:Details to come\, connect with Performnace Harley Dealership on Facebook
URL:https://www.syracusehog.com/event/performance-test-ride-event/
LOCATION:Performance Harley-Davidson\, 807 N. Geddes Street\, Syracuse\, 13204\, United States
CATEGORIES:Performance Harley-Davidson Event
END:VEVENT
BEGIN:VEVENT
DTSTART;TZID=America/New_York:20250517T090000
DTEND;TZID=America/New_York:20250517T100000
DTSTAMP:20260424T100140
CREATED:20250322T142528Z
LAST-MODIFIED:20250322T172059Z
UID:5459-1747472400-1747476000@www.syracusehog.com
SUMMARY:HOG Meeting
DESCRIPTION:May 17\, 2025\, \nAt PHD\, enter through employees entrance on the right side of the dealership
URL:https://www.syracusehog.com/event/hog-meeting-2/
CATEGORIES:H.O.G. Chapter Meeting,Meeting
ORGANIZER;CN="Dan Sturtz":MAILTO:membership@syracusehog.com
END:VEVENT
BEGIN:VEVENT
DTSTART;TZID=America/New_York:20250419T080000
DTEND;TZID=America/New_York:20250419T170000
DTSTAMP:20260424T100140
CREATED:20250322T141236Z
LAST-MODIFIED:20250322T141236Z
UID:5455-1745049600-1745082000@www.syracusehog.com
SUMMARY:ROC Training
DESCRIPTION:Schenectady\, NY
URL:https://www.syracusehog.com/event/roc-training/
CATEGORIES:H.O.G. Event
END:VEVENT
BEGIN:VEVENT
DTSTART;TZID=America/New_York:20250412T120000
DTEND;TZID=America/New_York:20250412T170000
DTSTAMP:20260424T100140
CREATED:20250216T200412Z
LAST-MODIFIED:20250322T154629Z
UID:5401-1744459200-1744477200@www.syracusehog.com
SUMMARY:Performance Spring Party
DESCRIPTION:Details to come\, connect with Performance Harley Dealership on Facebook
URL:https://www.syracusehog.com/event/performance-spring-party/
LOCATION:Performance Harley-Davidson\, 807 N. Geddes Street\, Syracuse\, 13204\, United States
CATEGORIES:Performance Harley-Davidson Event
END:VEVENT
BEGIN:VEVENT
DTSTART;TZID=America/New_York:20250412T090000
DTEND;TZID=America/New_York:20250412T100000
DTSTAMP:20260424T100140
CREATED:20250322T141614Z
LAST-MODIFIED:20250322T172008Z
UID:5457-1744448400-1744452000@www.syracusehog.com
SUMMARY:HOG Meeting
DESCRIPTION:April 12\, 2025\, \nAt PHD\, enter through employees entrance on the right side of the dealership
URL:https://www.syracusehog.com/event/hog-meeting/
CATEGORIES:H.O.G. Chapter Meeting,Meeting
END:VEVENT
BEGIN:VEVENT
DTSTART;TZID=America/New_York:20250329T120000
DTEND;TZID=America/New_York:20250329T170000
DTSTAMP:20260424T100140
CREATED:20250216T200228Z
LAST-MODIFIED:20250322T160126Z
UID:5399-1743249600-1743267600@www.syracusehog.com
SUMMARY:Performance National Spring Event
DESCRIPTION:Details coming soon\, connect on Facebook with Performance Harley Dealership
URL:https://www.syracusehog.com/event/performance-national-spring-event/
LOCATION:Performance Harley-Davidson\, 807 N. Geddes Street\, Syracuse\, 13204\, United States
CATEGORIES:Performance Harley-Davidson Event
END:VEVENT
BEGIN:VEVENT
DTSTART;TZID=America/New_York:20250315T120000
DTEND;TZID=America/New_York:20250315T140000
DTSTAMP:20260424T100140
CREATED:20250216T200733Z
LAST-MODIFIED:20250216T200733Z
UID:5403-1742040000-1742047200@www.syracusehog.com
SUMMARY:St. Patrick's Day Parade
DESCRIPTION:Parade to follow our HOG meeting\, will ride to downtown together
URL:https://www.syracusehog.com/event/st-patricks-day-parade/
LOCATION:Performance Harley-Davidson\, 807 N. Geddes Street\, Syracuse\, 13204\, United States
END:VEVENT
BEGIN:VEVENT
DTSTART;TZID=America/New_York:20241005T100000
DTEND;TZID=America/New_York:20241005T170000
DTSTAMP:20260424T100140
CREATED:20240921T173817Z
LAST-MODIFIED:20240921T174226Z
UID:5385-1728122400-1728147600@www.syracusehog.com
SUMMARY:Jeb's Fall Ride
DESCRIPTION:Ride to Jeb’s for lunch in Lowville\, NY-leaves should be peak 🍁🍂 \nSaturday’s special is prime rib so fingers crossed it’s beautiful. If not rain date is Sunday the 6th. \nMeet at Lakeport Stewarts on Rt.31 \nKSU 10am
URL:https://www.syracusehog.com/event/jebs-fall-ride/
LOCATION:Stewarts Lakeport- Route 31\, 1686 Lake Road Route 31\, Chittenango\, NY\, 13037\, United States
END:VEVENT
BEGIN:VEVENT
DTSTART;TZID=America/New_York:20240907T080000
DTEND;TZID=America/New_York:20240907T170000
DTSTAMP:20260424T100140
CREATED:20240428T161657Z
LAST-MODIFIED:20240523T010944Z
UID:5340-1725696000-1725728400@www.syracusehog.com
SUMMARY:Let's Roll 9-11 Memorial Ride
DESCRIPTION:September 7th Let’s Roll 24th annual 9/11 Ride & Concert in Ontario Beach Rochester \n\nOntario Beach Park Gazebo\, Rochester\, NY 14612\nRain date September 8th\nMeet at Fastrac on Rt 57 by Thruway-KSU 8am\nRegistration link:\n\nhttps://facebook.com/events/s/lets-roll-24th-annual-911-trib/307910848707457/
URL:https://www.syracusehog.com/event/lets-roll-9-11-memorial-ride/
END:VEVENT
BEGIN:VEVENT
DTSTART;TZID=America/New_York:20240817T100000
DTEND;TZID=America/New_York:20240817T160000
DTSTAMP:20260424T100140
CREATED:20240402T235933Z
LAST-MODIFIED:20240523T011349Z
UID:5313-1723888800-1723910400@www.syracusehog.com
SUMMARY:Piggy Pat's Lunch Ride
DESCRIPTION:August 17th- Lunch ride to Piggy Pat’s in New Hartford after 9am meeting \n3955 Edgebrook Pl.\n​Washington Mills\, NY 13413
URL:https://www.syracusehog.com/event/piggy-pats-lunch-ride-no-meeting/
END:VEVENT
BEGIN:VEVENT
DTSTART;VALUE=DATE:20240801
DTEND;VALUE=DATE:20240802
DTSTAMP:20260424T100140
CREATED:20240630T174732Z
LAST-MODIFIED:20240630T174732Z
UID:5371-1722470400-1722556799@www.syracusehog.com
SUMMARY:H.O.G. Mileage
DESCRIPTION:Email your H.O.G. mileage to John Kresse at \nastdirector@syracusehog.com \nIf you are participating\, or want to participate in Ride365\, please register at the H.O.G. Harley Davidson site\, and see Laz at Performance HD to get your starting mileage recorded. \nRegistering your mileage for Ride365 gets cool stuff for you and for our chapter. And it’s the same miles you already ride!
URL:https://www.syracusehog.com/event/h-o-g-mileage-3/
END:VEVENT
BEGIN:VEVENT
DTSTART;VALUE=DATE:20240727
DTEND;VALUE=DATE:20240728
DTSTAMP:20260424T100140
CREATED:20240803T040034Z
LAST-MODIFIED:20240727T001950Z
UID:5292-1722038400-1722124799@www.syracusehog.com
SUMMARY:Taughannock Falls
DESCRIPTION:Ed Van Auken will lead this ride \nDetails to come
URL:https://www.syracusehog.com/event/taughannock-falls/
CATEGORIES:H.O.G. Ride
END:VEVENT
BEGIN:VEVENT
DTSTART;TZID=America/New_York:20240720T100000
DTEND;TZID=America/New_York:20240720T150000
DTSTAMP:20260424T100140
CREATED:20240403T001905Z
LAST-MODIFIED:20240428T160737Z
UID:5321-1721469600-1721487600@www.syracusehog.com
SUMMARY:Captain Jack's Lunch Ride
DESCRIPTION:Lunch Ride to Captain Jack’s after meeting at 10am July 20th \n8505 Greig St\, Sodus Point\, NY
URL:https://www.syracusehog.com/event/lunch-ride-to-captain-jacks-after-meeting/
END:VEVENT
BEGIN:VEVENT
DTSTART;TZID=America/New_York:20240720T090000
DTEND;TZID=America/New_York:20240720T100000
DTSTAMP:20260424T100140
CREATED:20240403T001443Z
LAST-MODIFIED:20240403T002148Z
UID:5319-1721466000-1721469600@www.syracusehog.com
SUMMARY:July Monthly Meeting
DESCRIPTION:Performance Harley Davidson
URL:https://www.syracusehog.com/event/monthly-meeting-2/
END:VEVENT
BEGIN:VEVENT
DTSTART;VALUE=DATE:20240711
DTEND;VALUE=DATE:20240714
DTSTAMP:20260424T100140
CREATED:20240402T233849Z
LAST-MODIFIED:20240630T164046Z
UID:5308-1720656000-1720915199@www.syracusehog.com
SUMMARY:Iron Adventure HOG Rally
DESCRIPTION:Jay Peak Resort in Vermont-Meeting at Good Golly’s in Central Square at 8am for breakfast\, KSU 9am.
URL:https://www.syracusehog.com/event/iron-adventure-hog-rally/
END:VEVENT
BEGIN:VEVENT
DTSTART;VALUE=DATE:20240701
DTEND;VALUE=DATE:20240702
DTSTAMP:20260424T100140
CREATED:20240529T102222Z
LAST-MODIFIED:20240529T102222Z
UID:5362-1719792000-1719878399@www.syracusehog.com
SUMMARY:H.O.G. Mileage
DESCRIPTION:Email your H.O.G. mileage to John Kresse at \nastdirector@syracusehog.com \n  \nIf you are participating\, or want to participate in Ride365\, please register at the H.O.G. Harley Davidson site\, and see Laz at Performance HD to get your starting mileage recorded. \nRegistering your mileage for Ride365 gets cool stuff for you and for our chapter. And it’s the same miles you already ride!
URL:https://www.syracusehog.com/event/h-o-g-mileage-2/
END:VEVENT
BEGIN:VEVENT
DTSTART;TZID=America/New_York:20240630T080000
DTEND;TZID=America/New_York:20240630T170000
DTSTAMP:20260424T100140
CREATED:20240321T224606Z
LAST-MODIFIED:20240321T224933Z
UID:5294-1719734400-1719766800@www.syracusehog.com
SUMMARY:Scavenger Hunt Ride
DESCRIPTION:More details coming. \nCome to the meetings to find out more! \nThere will be prizes to the winners!
URL:https://www.syracusehog.com/event/scavenger-hunt-ride/
CATEGORIES:H.O.G. Ride
END:VEVENT
BEGIN:VEVENT
DTSTART;VALUE=DATE:20240622
DTEND;VALUE=DATE:20240623
DTSTAMP:20260424T100140
CREATED:20240321T223940Z
LAST-MODIFIED:20240523T010726Z
UID:5290-1719014400-1719100799@www.syracusehog.com
SUMMARY:Cooperstown Ride
DESCRIPTION:Ed Van Auken will led this ride to Cooperstown on June 22nd. Meet at Performance at 9am\, KSU 9:30am
URL:https://www.syracusehog.com/event/cooperstown-ride/
LOCATION:Performance Harley-Davidson\, 807 N. Geddes Street\, Syracuse\, 13204\, United States
CATEGORIES:H.O.G. Ride
END:VEVENT
BEGIN:VEVENT
DTSTART;TZID=America/New_York:20240615T100000
DTEND;TZID=America/New_York:20240615T140000
DTSTAMP:20260424T100140
CREATED:20240403T000625Z
LAST-MODIFIED:20240427T002220Z
UID:5315-1718445600-1718460000@www.syracusehog.com
SUMMARY:Rudy's Lakeside Lunch Ride
DESCRIPTION:June 15th- Ride to Rudy’s Lakeside after the HOG meeting \n78 County Route 89 Oswego\, NY 13126
URL:https://www.syracusehog.com/event/rudys-lakeside-lunch-ride/
END:VEVENT
END:VCALENDAR