BEGIN:VCALENDAR
VERSION:2.0
PRODID:-//Syracuse Chapter 3424 - ECPv6.15.1.1//NONSGML v1.0//EN
CALSCALE:GREGORIAN
METHOD:PUBLISH
X-WR-CALNAME:Syracuse Chapter 3424
X-ORIGINAL-URL:https://www.syracusehog.com
X-WR-CALDESC:Events for Syracuse Chapter 3424
REFRESH-INTERVAL;VALUE=DURATION:PT1H
X-Robots-Tag:noindex
X-PUBLISHED-TTL:PT1H
BEGIN:VTIMEZONE
TZID:America/New_York
BEGIN:DAYLIGHT
TZOFFSETFROM:-0500
TZOFFSETTO:-0400
TZNAME:EDT
DTSTART:20230312T070000
END:DAYLIGHT
BEGIN:STANDARD
TZOFFSETFROM:-0400
TZOFFSETTO:-0500
TZNAME:EST
DTSTART:20231105T060000
END:STANDARD
BEGIN:DAYLIGHT
TZOFFSETFROM:-0500
TZOFFSETTO:-0400
TZNAME:EDT
DTSTART:20240310T070000
END:DAYLIGHT
BEGIN:STANDARD
TZOFFSETFROM:-0400
TZOFFSETTO:-0500
TZNAME:EST
DTSTART:20241103T060000
END:STANDARD
END:VTIMEZONE
BEGIN:VEVENT
DTSTART;TZID=America/New_York:20240615T090000
DTEND;TZID=America/New_York:20240615T100000
DTSTAMP:20260425T072939
CREATED:20240403T000917Z
LAST-MODIFIED:20240403T000917Z
UID:5317-1718442000-1718445600@www.syracusehog.com
SUMMARY:June Monthly Meeting
DESCRIPTION:Performance Harley Davidson
URL:https://www.syracusehog.com/event/june-monthly-meeting/
LOCATION:NY
END:VEVENT
BEGIN:VEVENT
DTSTART;TZID=America/New_York:20240608T130000
DTEND;TZID=America/New_York:20240608T160000
DTSTAMP:20260425T072939
CREATED:20240402T232918Z
LAST-MODIFIED:20240427T002357Z
UID:5304-1717851600-1717862400@www.syracusehog.com
SUMMARY:Fergie's Memorial Ride
DESCRIPTION:June 8th-Meet at Performance at 12:30\, KSU 1pm \nWe will ride to the Cicero fire Department’s Memorial Park where there is a brick for Fergie donated by Syracuse HOG \nAfter we will ride to Scoop’s Ice Cream in Fulton which was Fergie’s favorite ice cream shop \nRain date June 9th-same time and place
URL:https://www.syracusehog.com/event/fergies-memorial-ride/
LOCATION:NY
END:VEVENT
BEGIN:VEVENT
DTSTART;VALUE=DATE:20240601
DTEND;VALUE=DATE:20240602
DTSTAMP:20260425T072939
CREATED:20240529T102045Z
LAST-MODIFIED:20240529T102045Z
UID:5359-1717200000-1717286399@www.syracusehog.com
SUMMARY:H.O.G. Mileage
DESCRIPTION:Email your H.O.G. mileage to John Kresse at \nastdirector@syracusehog.com \n  \nIf you are participating\, or want to participate in Ride365\, please register at the H.O.G. Harley Davidson site\, and see Laz at Performance HD to get your starting mileage recorded. \nRegistering your mileage for Ride365 gets cool stuff for you and for our chapter. And it’s the same miles you already ride!
URL:https://www.syracusehog.com/event/h-o-g-mileage/
LOCATION:NY
END:VEVENT
BEGIN:VEVENT
DTSTART;TZID=America/New_York:20240527T080000
DTEND;TZID=America/New_York:20240527T170000
DTSTAMP:20260425T072939
CREATED:20240402T232158Z
LAST-MODIFIED:20240427T002620Z
UID:5302-1716796800-1716829200@www.syracusehog.com
SUMMARY:Patriot Guard Memorial Day Ride
DESCRIPTION:May 27th- Meet at Fastrac on Rt. 57 (by thruway) at 8am. \nWaterloo VFW 29 Elisha Street Waterloo\, NY \nRegistration 8am-10am \n10am-2pm scenic ride through Finger Lakes Region \n2pm-Return to Waterloo VFW for buffet lunch \n$35 per rider/ $15 passenger
URL:https://www.syracusehog.com/event/patriot-guard-memorial-day-ride/
LOCATION:NY
END:VEVENT
BEGIN:VEVENT
DTSTART;TZID=America/New_York:20240519T080000
DTEND;TZID=America/New_York:20240519T170000
DTSTAMP:20260425T072939
CREATED:20240428T160457Z
LAST-MODIFIED:20240523T011257Z
UID:5336-1716105600-1716138000@www.syracusehog.com
SUMMARY:Coachlight Inn Restaurant Lunch Ride
DESCRIPTION:Changed due to weather!!! May 19th- meet at Performance\, KSU 10am. Lunch ride to Coachlight Inn in the Adirondacks
URL:https://www.syracusehog.com/event/lunch-ride-to-coachlight-inn-restaurant/
LOCATION:NY
END:VEVENT
BEGIN:VEVENT
DTSTART;TZID=America/New_York:20240518T090000
DTEND;TZID=America/New_York:20240518T170000
DTSTAMP:20260425T072939
CREATED:20240321T230832Z
LAST-MODIFIED:20240321T232024Z
UID:5299-1716022800-1716051600@www.syracusehog.com
SUMMARY:May Monthly Meeting
DESCRIPTION:This will be a ride meeting only \nAny questions or concerns please email \nme
URL:https://www.syracusehog.com/event/may-monthly-meeting/
LOCATION:Performance Harley-Davidson\, 807 N. Geddes Street\, Syracuse\, 13204\, United States
CATEGORIES:H.O.G. Ride,Ride
END:VEVENT
BEGIN:VEVENT
DTSTART;TZID=America/New_York:20240427T100000
DTEND;TZID=America/New_York:20240427T130000
DTSTAMP:20260425T072939
CREATED:20240402T234940Z
LAST-MODIFIED:20240427T002845Z
UID:5311-1714212000-1714222800@www.syracusehog.com
SUMMARY:Ride to Mad Taco after Meeting
DESCRIPTION:April 27th- lunch ride to Mad Taco in Cazenovia\, NY after meeting \n3264  Route 20 East
URL:https://www.syracusehog.com/event/ride-to-mad-taco-after-meeting/
LOCATION:NY
END:VEVENT
BEGIN:VEVENT
DTSTART;TZID=America/New_York:20240427T090000
DTEND;TZID=America/New_York:20240427T100000
DTSTAMP:20260425T072939
CREATED:20240321T230228Z
LAST-MODIFIED:20240321T230228Z
UID:5297-1714208400-1714212000@www.syracusehog.com
SUMMARY:April Monthly Meeting
DESCRIPTION:Take note next months meeting is on the 27th. \nPossibly a ride after?
URL:https://www.syracusehog.com/event/april-monthly-meeting/
LOCATION:NY
CATEGORIES:H.O.G. Chapter Meeting,Meeting
END:VEVENT
BEGIN:VEVENT
DTSTART;TZID=America/New_York:20240316T090000
DTEND;TZID=America/New_York:20240316T100000
DTSTAMP:20260425T072939
CREATED:20240217T190249Z
LAST-MODIFIED:20240217T190249Z
UID:5282-1710579600-1710583200@www.syracusehog.com
SUMMARY:March Meeting
DESCRIPTION:
URL:https://www.syracusehog.com/event/march-meeting/
LOCATION:Performance Harley-Davidson\, 807 N. Geddes Street\, Syracuse\, 13204\, United States
END:VEVENT
BEGIN:VEVENT
DTSTART;TZID=America/New_York:20231216T090000
DTEND;TZID=America/New_York:20231216T100000
DTSTAMP:20260425T072939
CREATED:20231121T224213Z
LAST-MODIFIED:20231121T224213Z
UID:5276-1702717200-1702720800@www.syracusehog.com
SUMMARY:December Meeting
DESCRIPTION:This month we need to finalize the annual dinner. \nTime/Date/Venue \nOfficer openings \nOfficers the are going to ROC Training
URL:https://www.syracusehog.com/event/december-meeting/
LOCATION:Performance Harley-Davidson\, 807 N. Geddes Street\, Syracuse\, 13204\, United States
END:VEVENT
END:VCALENDAR