BEGIN:VCALENDAR
VERSION:2.0
PRODID:-//Syracuse Chapter 3424 - ECPv6.15.1.1//NONSGML v1.0//EN
CALSCALE:GREGORIAN
METHOD:PUBLISH
X-ORIGINAL-URL:https://www.syracusehog.com
X-WR-CALDESC:Events for Syracuse Chapter 3424
REFRESH-INTERVAL;VALUE=DURATION:PT1H
X-Robots-Tag:noindex
X-PUBLISHED-TTL:PT1H
BEGIN:VTIMEZONE
TZID:America/New_York
BEGIN:DAYLIGHT
TZOFFSETFROM:-0500
TZOFFSETTO:-0400
TZNAME:EDT
DTSTART:20250309T070000
END:DAYLIGHT
BEGIN:STANDARD
TZOFFSETFROM:-0400
TZOFFSETTO:-0500
TZNAME:EST
DTSTART:20251102T060000
END:STANDARD
BEGIN:DAYLIGHT
TZOFFSETFROM:-0500
TZOFFSETTO:-0400
TZNAME:EDT
DTSTART:20260308T070000
END:DAYLIGHT
BEGIN:STANDARD
TZOFFSETFROM:-0400
TZOFFSETTO:-0500
TZNAME:EST
DTSTART:20261101T060000
END:STANDARD
END:VTIMEZONE
BEGIN:VEVENT
DTSTART;TZID=America/New_York:20250821T080000
DTEND;TZID=America/New_York:20250824T170000
DTSTAMP:20260425T073103
CREATED:20250216T214109Z
LAST-MODIFIED:20250216T221906Z
UID:5426-1755763200-1756054800@www.syracusehog.com
SUMMARY:Iron Adventure of New England HOG Rally (NH)
DESCRIPTION:2025 Iron Adventure Rally – Registration and Hotel Information\nHarley-Davidson has officially opened Rally registration for next year. The 2025 Iron Adventure Rally will be in Bartlett\, NH August 21-23. You can find the Rally on the Harley-Davidson website under H.O.G. Rallies or use the following ling or QR Code.\nhttps://members.harley-davidson.com/…/HDMN_Rally…\n\n\nThe host hotel for the rally is the Grand Summit Hotel at Attitash\, 104 Grand Summit Road\, Bartlett NH 03812\, Phone: 603-374-6700\nSpecial rally rates will be available at the hotel from Tuesday August 19 through Sunday August 24\, 2025. To get those rates you need to call the hotel at 603-374-6700 to make the reservation and tell them it is for the 𝐈𝐫𝐨𝐧 𝐀𝐝𝐯𝐞𝐧𝐭𝐮𝐫𝐞 𝐑𝐚𝐥𝐥𝐲.\n\n**We will discuss a meeting place to leave from in upcoming meetings so we can ride together for those of us leaving on Thursday. Feel free to make other plans for those leaving on different days.
URL:https://www.syracusehog.com/event/iron-adventure-of-new-england-hog-rally/
END:VEVENT
BEGIN:VEVENT
DTSTART;TZID=America/New_York:20250831T080000
DTEND;TZID=America/New_York:20250831T170000
DTSTAMP:20260425T073103
CREATED:20250412T165329Z
LAST-MODIFIED:20250412T165631Z
UID:5495-1756627200-1756659600@www.syracusehog.com
SUMMARY:Food & Fund Ride for the Vets
DESCRIPTION:Nonperishable food drive to feed our vets \nCicero American Legion Post 787 Riders- 5575 Legionnaire Drive Cicero\, NY 13039 \nRegistration 8am \nStaging 9:30am \nBlessing 9:45am \nKSU 10am
URL:https://www.syracusehog.com/event/food-fund-ride-for-the-vets/
LOCATION:Cicero American Legion Post 787\, 5575 Legionnaire Drive\, Cicero\, NY\, 13039\, United States
END:VEVENT
BEGIN:VEVENT
DTSTART;TZID=America/New_York:20250906T090000
DTEND;TZID=America/New_York:20250906T170000
DTSTAMP:20260425T073103
CREATED:20250412T171313Z
LAST-MODIFIED:20250412T171603Z
UID:5500-1757149200-1757178000@www.syracusehog.com
SUMMARY:24th Anniversary Let's Roll 9/11 Tribute Ride & Concert
DESCRIPTION:We’re back for the 24th Anniversary “Let’s Roll!” 9/11 Tribute Ride & Concert\, one of the largest and longest-running escorted rides in the Northeast!\nAs we rotate our beneficiaries each year between Fire\, Police\, and Military\, this year we’re back to the green to support Honor Flight. All proceeds will be donated to help send veterans to D.C. to visit the memorials that honor their service.\nAs always\, the 50+ mile ride will be escorted by LEOs\, Fire\, and Military personnel\, along with the Patriot Guard Riders \nPre-register: https://events.operationpatriot.org/ \nWe will meet at Fastrack-KSU 8am to ride out together
URL:https://www.syracusehog.com/event/24th-anniversary-lets-roll-9-11-tribute-ride-concert/
LOCATION:Ontario Beach Park\, 50 Beach Ave\, 14612\, Rochester\, NY\, 14612\, United States
END:VEVENT
BEGIN:VEVENT
DTSTART;TZID=America/New_York:20250909T080000
DTEND;TZID=America/New_York:20250914T170000
DTSTAMP:20260425T073103
CREATED:20250216T223511Z
LAST-MODIFIED:20250216T223745Z
UID:5440-1757404800-1757869200@www.syracusehog.com
SUMMARY:Catskill Mountain Thunder
DESCRIPTION:Catskill Mountain Thunder Motorcycle Festival is hosted at Blackthorne resort each September. For info on lodging contact info@blackthorneresort.com or call (518) 634-2541 for reservations.
URL:https://www.syracusehog.com/event/catskill-mountain-thunder/
LOCATION:Catskill Mountain Thunder\, 348 SUNSIDE\, East Durham\, NY\, 12423\, United States
END:VEVENT
BEGIN:VEVENT
DTSTART;TZID=America/New_York:20250913T080000
DTEND;TZID=America/New_York:20250913T170000
DTSTAMP:20260425T073103
CREATED:20250216T225336Z
LAST-MODIFIED:20250412T165759Z
UID:5446-1757750400-1757782800@www.syracusehog.com
SUMMARY:Finger Lakes Bike Rally
DESCRIPTION:For this event we will start at WGI racetrack and conclude the day at The Boars Nest 414 with Local Vendors\, Bike rides on Watkins Glen International along with guided rides along some of the Finger Lakes\, biker games\, competitions\, bike show and live entertainment! For any questions or to be a volunteer or vendor please message the FingerLakes Bike Rally page or email FLXbikerally@gmail.com
URL:https://www.syracusehog.com/event/finger-lakes-bike-rally/
LOCATION:Watkins Glen International\, 2790 County Route 16\, Watkins Glen\, NY\, 14891\, United States
END:VEVENT
BEGIN:VEVENT
DTSTART;TZID=America/New_York:20250913T120000
DTEND;TZID=America/New_York:20250913T170000
DTSTAMP:20260425T073103
CREATED:20250216T202328Z
LAST-MODIFIED:20250322T154219Z
UID:5412-1757764800-1757782800@www.syracusehog.com
SUMMARY:Performance Fall Open House
DESCRIPTION:Details to come\, connect with Performance Harley Dealership on Facebook \n 
URL:https://www.syracusehog.com/event/performance-fall-open-house/
LOCATION:Performance Harley-Davidson\, 807 N. Geddes Street\, Syracuse\, 13204\, United States
CATEGORIES:Performance Harley-Davidson Event
END:VEVENT
BEGIN:VEVENT
DTSTART;TZID=America/New_York:20250920T090000
DTEND;TZID=America/New_York:20250920T100000
DTSTAMP:20260425T073103
CREATED:20250322T160940Z
LAST-MODIFIED:20250831T003533Z
UID:5476-1758358800-1758362400@www.syracusehog.com
SUMMARY:HOG Meeting
DESCRIPTION:At PHD\, enter through employees entrance on the right side of the dealership \nLunch ride to Rudy’s Lakeside
URL:https://www.syracusehog.com/event/hog-meeting-6/
CATEGORIES:H.O.G. Chapter Meeting,Meeting
ORGANIZER;CN="Dan Sturtz":MAILTO:membership@syracusehog.com
END:VEVENT
BEGIN:VEVENT
DTSTART;TZID=America/New_York:20251004T100000
DTEND;TZID=America/New_York:20251004T170000
DTSTAMP:20260425T073103
CREATED:20250831T010545Z
LAST-MODIFIED:20250922T144519Z
UID:5554-1759572000-1759597200@www.syracusehog.com
SUMMARY:Fall Foliage Ride and Lunch
DESCRIPTION:Lunch ride to Daikers\, enjoy the fall foliage 🍁🍂 \nMeet at Lakeport Market at 9:45am\, KSU 10am\nRain date Sunday October 11th
URL:https://www.syracusehog.com/event/fall-foliage-ride-and-lunch/
END:VEVENT
BEGIN:VEVENT
DTSTART;TZID=America/New_York:20251018T090000
DTEND;TZID=America/New_York:20251018T100000
DTSTAMP:20260425T073103
CREATED:20250831T005628Z
LAST-MODIFIED:20251010T141625Z
UID:5552-1760778000-1760781600@www.syracusehog.com
SUMMARY:HOG Meeting
DESCRIPTION:HOG Meeting at 9 am\, \nlunch ride to Red Rooster
URL:https://www.syracusehog.com/event/hog-meeting-4/
LOCATION:Performance Harley-Davidson\, 807 N. Geddes Street\, Syracuse\, 13204\, United States
END:VEVENT
BEGIN:VEVENT
DTSTART;TZID=America/New_York:20251115T100000
DTEND;TZID=America/New_York:20251115T110000
DTSTAMP:20260425T073103
CREATED:20251010T141753Z
LAST-MODIFIED:20251010T142042Z
UID:5564-1763200800-1763204400@www.syracusehog.com
SUMMARY:HOG Meeting
DESCRIPTION:November HOG Monthly Meeting 10 am
URL:https://www.syracusehog.com/event/hog-meeting-7/
END:VEVENT
BEGIN:VEVENT
DTSTART;TZID=America/New_York:20251220T100000
DTEND;TZID=America/New_York:20251220T110000
DTSTAMP:20260425T073103
CREATED:20251010T141853Z
LAST-MODIFIED:20251010T142102Z
UID:5566-1766224800-1766228400@www.syracusehog.com
SUMMARY:HOG Meeting
DESCRIPTION:December Monthly HOG Meeting 10 am
URL:https://www.syracusehog.com/event/hog-meeting-8/
END:VEVENT
BEGIN:VEVENT
DTSTART;TZID=America/New_York:20260117T180000
DTEND;TZID=America/New_York:20260117T220000
DTSTAMP:20260425T073103
CREATED:20251010T142553Z
LAST-MODIFIED:20260110T181956Z
UID:5568-1768672800-1768687200@www.syracusehog.com
SUMMARY:HOG Holiday Dinner
DESCRIPTION:Holiday Dinner \nBarbagallos\, 6344 E Molloy Rd.\,  East Syracuse @ 6 pm
URL:https://www.syracusehog.com/event/hog-holiday-dinner/
END:VEVENT
BEGIN:VEVENT
DTSTART;TZID=America/New_York:20260418T090000
DTEND;TZID=America/New_York:20260418T140000
DTSTAMP:20260425T073103
CREATED:20260330T020008Z
LAST-MODIFIED:20260330T020008Z
UID:5613-1776502800-1776520800@www.syracusehog.com
SUMMARY:HOG Meeting & Bike Blessing
DESCRIPTION:HOG Meeting at 9am\, Bike Blessing to follow at 12pm \nBoth at Performance Harley Dealership
URL:https://www.syracusehog.com/event/hog-meeting-bike-blessing/
LOCATION:Performance Harley-Davidson\, 807 N. Geddes Street\, Syracuse\, 13204\, United States
END:VEVENT
BEGIN:VEVENT
DTSTART;TZID=America/New_York:20260508T090000
DTEND;TZID=America/New_York:20260509T160000
DTSTAMP:20260425T073103
CREATED:20260330T021119Z
LAST-MODIFIED:20260330T021136Z
UID:5617-1778230800-1778342400@www.syracusehog.com
SUMMARY:Demo Days-Modern Classic: Triumph
DESCRIPTION:Experience Triumph’s Modern Classic lineup during our Modern Classic Demo Event\, May 8th & 9th at Syracuse Triumph.\nTake a test ride on select new Modern Classic models and feel the perfect balance of heritage-inspired design\, modern technology\, and everyday rideability. These bikes are built to be experienced on the road.
URL:https://www.syracusehog.com/event/demo-days-modernclassic-triumph/
LOCATION:Performance Harley-Davidson\, 807 N. Geddes Street\, Syracuse\, 13204\, United States
END:VEVENT
BEGIN:VEVENT
DTSTART;TZID=America/New_York:20260515T100000
DTEND;TZID=America/New_York:20260516T150000
DTSTAMP:20260425T073103
CREATED:20260330T020708Z
LAST-MODIFIED:20260330T020708Z
UID:5615-1778839200-1778943600@www.syracusehog.com
SUMMARY:Performance Demo Days
DESCRIPTION:THE H-D DEMO TRUCK IS RETURNING TO SYRACUSE!Visit Performance Harley-Davidson May 15th – 16th and test ride the 2026 Harley-Davidson Lineup\, straight from the factory
URL:https://www.syracusehog.com/event/performance-demo-days/
LOCATION:Performance Harley-Davidson\, 807 N. Geddes Street\, Syracuse\, 13204\, United States
END:VEVENT
BEGIN:VEVENT
DTSTART;TZID=America/New_York:20260516T090000
DTEND;TZID=America/New_York:20260516T100000
DTSTAMP:20260425T073103
CREATED:20260330T031221Z
LAST-MODIFIED:20260330T031221Z
UID:5638-1778922000-1778925600@www.syracusehog.com
SUMMARY:HOG Meeting
DESCRIPTION:
URL:https://www.syracusehog.com/event/hog-meeting-9/
LOCATION:Performance Harley-Davidson\, 807 N. Geddes Street\, Syracuse\, 13204\, United States
END:VEVENT
BEGIN:VEVENT
DTSTART;VALUE=DATE:20260527
DTEND;VALUE=DATE:20260531
DTSTAMP:20260425T073103
CREATED:20260330T022848Z
LAST-MODIFIED:20260330T022848Z
UID:5620-1779840000-1780185599@www.syracusehog.com
SUMMARY:Americade
DESCRIPTION:Sign Up
URL:https://www.syracusehog.com/event/americade/
LOCATION:Fort William Henry\, 48 Canada Street\, Lake George\, NY\, 12845\, United States
END:VEVENT
BEGIN:VEVENT
DTSTART;TZID=America/New_York:20260605T120000
DTEND;TZID=America/New_York:20260606T160000
DTSTAMP:20260425T073103
CREATED:20260330T031118Z
LAST-MODIFIED:20260330T031118Z
UID:5636-1780660800-1780761600@www.syracusehog.com
SUMMARY:Drag Specialties-Semi Truck Weekend at Performance
DESCRIPTION:The Drag Specialties Semi-Truck is rolling into Performance Harley-Davidson for an exclusive two-day stop you won’t want to miss.\nStep inside and explore a massive selection of parts\, accessories\, and riding gear—all in one place. Whether you’re customizing your ride\, planning your next upgrade\, or just checking out the latest in V-Twin innovation\, this is a unique opportunity to experience it up close.\nConnect with knowledgeable reps\, get inspired\, and see what’s new in the world of motorcycle performance and style.\nThis event is only here for a limited time—make sure you stop by and check it out.
URL:https://www.syracusehog.com/event/drag-specialties-semi-truck-weekend-at-performance/
LOCATION:Performance Harley-Davidson\, 807 N. Geddes Street\, Syracuse\, 13204\, United States
END:VEVENT
BEGIN:VEVENT
DTSTART;VALUE=DATE:20260613
DTEND;VALUE=DATE:20260622
DTSTAMP:20260425T073103
CREATED:20260330T023630Z
LAST-MODIFIED:20260330T023630Z
UID:5623-1781308800-1782086399@www.syracusehog.com
SUMMARY:Laconia 103rd Bike Week
DESCRIPTION:The oldset Motorcycle Rally in Weirs Beach New Hampshire
URL:https://www.syracusehog.com/event/laconia-103rd-bike-week/
END:VEVENT
BEGIN:VEVENT
DTSTART;TZID=America/New_York:20260620T090000
DTEND;TZID=America/New_York:20260620T100000
DTSTAMP:20260425T073103
CREATED:20260330T031439Z
LAST-MODIFIED:20260330T032937Z
UID:5640-1781946000-1781949600@www.syracusehog.com
SUMMARY:HOG Meeting
DESCRIPTION:Lunch Ride TBD
URL:https://www.syracusehog.com/event/hog-meeting-10/
LOCATION:Performance Harley-Davidson\, 807 N. Geddes Street\, Syracuse\, 13204\, United States
END:VEVENT
BEGIN:VEVENT
DTSTART;VALUE=DATE:20260626
DTEND;VALUE=DATE:20260629
DTSTAMP:20260425T073103
CREATED:20260330T032208Z
LAST-MODIFIED:20260330T032208Z
UID:5642-1782432000-1782691199@www.syracusehog.com
SUMMARY:Thousand Islands River Run Bike Rally
DESCRIPTION:18th Annual Thousand Islands River Run Bike Rally!
URL:https://www.syracusehog.com/event/thousand-islands-river-run-bike-rally/
LOCATION:Alexandria Bay\, NY
END:VEVENT
BEGIN:VEVENT
DTSTART;VALUE=DATE:20260716
DTEND;VALUE=DATE:20260719
DTSTAMP:20260425T073103
CREATED:20260330T025107Z
LAST-MODIFIED:20260330T025107Z
UID:5625-1784160000-1784419199@www.syracusehog.com
SUMMARY:Iron Adventure HOG Rally
DESCRIPTION:Vermont’s winding roads\, rolling Green Mountains\, and scenic river valleys make it one of the best riding destinations in New England. Explore charming small towns\, historic covered bridges\, and stunning mountain overlooks on guided or self-guided routes that showcase the state’s natural beauty. Evenings offer local entertainment\, activities\, and plenty of time to connect with fellow H.O.G. members\, making it the perfect way to experience Vermont on two wheels. \nRegistration: \nhttps://members.harley-davidson.com/HOG/HDMN_Rally_Details?rallyId=a1WVt000005qDkf
URL:https://www.syracusehog.com/event/iron-adventure-hog-rally-2/
LOCATION:Okemo Mountain Resort
END:VEVENT
BEGIN:VEVENT
DTSTART;TZID=America/New_York:20260718T090000
DTEND;TZID=America/New_York:20260718T100000
DTSTAMP:20260425T073103
CREATED:20260330T032544Z
LAST-MODIFIED:20260330T032544Z
UID:5645-1784365200-1784368800@www.syracusehog.com
SUMMARY:HOG Meeting
DESCRIPTION:
URL:https://www.syracusehog.com/event/hog-meeting-11/
LOCATION:Performance Harley-Davidson\, 807 N. Geddes Street\, Syracuse\, 13204\, United States
END:VEVENT
BEGIN:VEVENT
DTSTART;VALUE=DATE:20260723
DTEND;VALUE=DATE:20260726
DTSTAMP:20260425T073103
CREATED:20260330T025451Z
LAST-MODIFIED:20260330T025451Z
UID:5629-1784764800-1785023999@www.syracusehog.com
SUMMARY:Cruisin the Catskills HOG Rally
DESCRIPTION:Cruise with us through the winding hills and valleys of New York’s scenic Catskill Mountains. Ride along rushing streams\, wind your way to charming mountaintop villages\, and explore destinations like Cooperstown\, Howe Caverns\, Revolutionary War sites\, and the Thomas Cole National Historic Site. After a day of curves and breathtaking views\, relax with friends around the fire pits or pool to share stories of the day’s adventures. The Catskills aren’t just a destination – they’re an experience best enjoyed from the seat of your Harley. \nRegister: \nhttps://members.harley-davidson.com/HOG/HDMN_Rally_Details?rallyId=a1WVt000005qDmH
URL:https://www.syracusehog.com/event/cruisin-the-catskills-hog-rally/
LOCATION:Hunter Mountain\, NY
END:VEVENT
BEGIN:VEVENT
DTSTART;TZID=America/New_York:20260815T090000
DTEND;TZID=America/New_York:20260815T100000
DTSTAMP:20260425T073103
CREATED:20260330T032634Z
LAST-MODIFIED:20260330T032634Z
UID:5647-1786784400-1786788000@www.syracusehog.com
SUMMARY:HOG Meeting
DESCRIPTION:
URL:https://www.syracusehog.com/event/hog-meeting-12/
LOCATION:Performance Harley-Davidson\, 807 N. Geddes Street\, Syracuse\, 13204\, United States
END:VEVENT
BEGIN:VEVENT
DTSTART;VALUE=DATE:20260827
DTEND;VALUE=DATE:20260830
DTSTAMP:20260425T073103
CREATED:20260330T030136Z
LAST-MODIFIED:20260330T030136Z
UID:5632-1787788800-1788047999@www.syracusehog.com
SUMMARY:Fingerlakes Bike Rally
DESCRIPTION:A Rally for all motorcycle enthusiasts to come enjoy the beautiful Finger Lakes Region and experience gorgeous rides\, biker games\, live entertainment\, burnout pit\, local vendors\, amazing food with plenty of local wineries\, breweries\, and distilleries.
URL:https://www.syracusehog.com/event/fingerlakes-bike-rally/
LOCATION:Watkins Glen International\, 2790 County Route 16\, Watkins Glen\, NY\, 14891\, United States
END:VEVENT
BEGIN:VEVENT
DTSTART;VALUE=DATE:20260915
DTEND;VALUE=DATE:20260921
DTSTAMP:20260425T073103
CREATED:20260330T030554Z
LAST-MODIFIED:20260330T030554Z
UID:5634-1789430400-1789948799@www.syracusehog.com
SUMMARY:Catskill Mountain Thunder
DESCRIPTION:The mountains come alive with the sounds of thunder! Thousands of motorcycles roll in & let the fun begin!
URL:https://www.syracusehog.com/event/catskill-mountain-thunder-2/
LOCATION:Catskill Mountain Thunder\, 348 SUNSIDE\, East Durham\, NY\, 12423\, United States
END:VEVENT
BEGIN:VEVENT
DTSTART;TZID=America/New_York:20260919T090000
DTEND;TZID=America/New_York:20260919T100000
DTSTAMP:20260425T073103
CREATED:20260330T032724Z
LAST-MODIFIED:20260330T032724Z
UID:5649-1789808400-1789812000@www.syracusehog.com
SUMMARY:HOG Meeting
DESCRIPTION:
URL:https://www.syracusehog.com/event/hog-meeting-13/
LOCATION:Performance Harley-Davidson\, 807 N. Geddes Street\, Syracuse\, 13204\, United States
END:VEVENT
BEGIN:VEVENT
DTSTART;TZID=America/New_York:20261017T090000
DTEND;TZID=America/New_York:20261017T100000
DTSTAMP:20260425T073103
CREATED:20260330T032817Z
LAST-MODIFIED:20260330T032817Z
UID:5651-1792227600-1792231200@www.syracusehog.com
SUMMARY:HOG Meeting
DESCRIPTION:
URL:https://www.syracusehog.com/event/hog-meeting-14/
LOCATION:Performance Harley-Davidson\, 807 N. Geddes Street\, Syracuse\, 13204\, United States
END:VEVENT
BEGIN:VEVENT
DTSTART;TZID=America/New_York:20261121T090000
DTEND;TZID=America/New_York:20261121T100000
DTSTAMP:20260425T073103
CREATED:20260330T032900Z
LAST-MODIFIED:20260330T032900Z
UID:5653-1795251600-1795255200@www.syracusehog.com
SUMMARY:HOG Meeting
DESCRIPTION:
URL:https://www.syracusehog.com/event/hog-meeting-15/
LOCATION:Performance Harley-Davidson\, 807 N. Geddes Street\, Syracuse\, 13204\, United States
END:VEVENT
END:VCALENDAR