BEGIN:VCALENDAR
VERSION:2.0
PRODID:-//Syracuse Chapter 3424 - ECPv6.15.1.1//NONSGML v1.0//EN
CALSCALE:GREGORIAN
METHOD:PUBLISH
X-ORIGINAL-URL:https://www.syracusehog.com
X-WR-CALDESC:Events for Syracuse Chapter 3424
REFRESH-INTERVAL;VALUE=DURATION:PT1H
X-Robots-Tag:noindex
X-PUBLISHED-TTL:PT1H
BEGIN:VTIMEZONE
TZID:America/New_York
BEGIN:DAYLIGHT
TZOFFSETFROM:-0500
TZOFFSETTO:-0400
TZNAME:EDT
DTSTART:20240310T070000
END:DAYLIGHT
BEGIN:STANDARD
TZOFFSETFROM:-0400
TZOFFSETTO:-0500
TZNAME:EST
DTSTART:20241103T060000
END:STANDARD
END:VTIMEZONE
BEGIN:VEVENT
DTSTART;TZID=America/New_York:20240907T080000
DTEND;TZID=America/New_York:20240907T170000
DTSTAMP:20260424T213527
CREATED:20240428T161657Z
LAST-MODIFIED:20240523T010944Z
UID:5340-1725696000-1725728400@www.syracusehog.com
SUMMARY:Let's Roll 9-11 Memorial Ride
DESCRIPTION:September 7th Let’s Roll 24th annual 9/11 Ride & Concert in Ontario Beach Rochester \n\nOntario Beach Park Gazebo\, Rochester\, NY 14612\nRain date September 8th\nMeet at Fastrac on Rt 57 by Thruway-KSU 8am\nRegistration link:\n\nhttps://facebook.com/events/s/lets-roll-24th-annual-911-trib/307910848707457/
URL:https://www.syracusehog.com/event/lets-roll-9-11-memorial-ride/
END:VEVENT
END:VCALENDAR