BEGIN:VCALENDAR
VERSION:2.0
PRODID:-//Syracuse Chapter 3424 - ECPv6.15.1.1//NONSGML v1.0//EN
CALSCALE:GREGORIAN
METHOD:PUBLISH
X-WR-CALNAME:Syracuse Chapter 3424
X-ORIGINAL-URL:https://www.syracusehog.com
X-WR-CALDESC:Events for Syracuse Chapter 3424
REFRESH-INTERVAL;VALUE=DURATION:PT1H
X-Robots-Tag:noindex
X-PUBLISHED-TTL:PT1H
BEGIN:VTIMEZONE
TZID:America/New_York
BEGIN:DAYLIGHT
TZOFFSETFROM:-0500
TZOFFSETTO:-0400
TZNAME:EDT
DTSTART:20250309T070000
END:DAYLIGHT
BEGIN:STANDARD
TZOFFSETFROM:-0400
TZOFFSETTO:-0500
TZNAME:EST
DTSTART:20251102T060000
END:STANDARD
END:VTIMEZONE
BEGIN:VEVENT
DTSTART;TZID=America/New_York:20250808T120000
DTEND;TZID=America/New_York:20250808T150000
DTSTAMP:20260424T020027
CREATED:20250216T202822Z
LAST-MODIFIED:20250518T173344Z
UID:5420-1754654400-1754665200@www.syracusehog.com
SUMMARY:Biker Saturdays at Performance
DESCRIPTION:Biker Saturdays: music by Faceless\, food and vendors!
URL:https://www.syracusehog.com/event/biker-saturadys-at-performance/
LOCATION:Performance Harley-Davidson\, 807 N. Geddes Street\, Syracuse\, 13204\, United States
END:VEVENT
BEGIN:VEVENT
DTSTART;TZID=America/New_York:20250809T090000
DTEND;TZID=America/New_York:20250809T103000
DTSTAMP:20260424T020027
CREATED:20250322T160902Z
LAST-MODIFIED:20250412T164013Z
UID:5474-1754730000-1754735400@www.syracusehog.com
SUMMARY:HOG Meeting
DESCRIPTION:At PHD\, enter through employees entrance on the right side of the dealership
URL:https://www.syracusehog.com/event/hog-meeting-5/
CATEGORIES:H.O.G. Chapter Meeting,Meeting
ORGANIZER;CN="Dan Sturtz":MAILTO:membership@syracusehog.com
END:VEVENT
BEGIN:VEVENT
DTSTART;TZID=America/New_York:20250814T080000
DTEND;TZID=America/New_York:20250816T170000
DTSTAMP:20260424T020027
CREATED:20250216T215053Z
LAST-MODIFIED:20250518T181156Z
UID:5428-1755158400-1755363600@www.syracusehog.com
SUMMARY:Valley to the Mountains HOG Rally (NY)
DESCRIPTION:The Valley to the Mountains H.O.G. rally is pleased to announce that our HOST HOTEL for the August 2025 event is Resorts World Catskills\, in Monticello\, New York. UPDATE: The code is now functional. https://rwcatskills.com and click BOOK NOW (use code 2543). Some additional hotel options are on their facebook page.\n\n**We will discuss a meeting place at our meetings for those leaving on Thursday and for those leaving on Friday feel free to make plans as well.
URL:https://www.syracusehog.com/event/valley-to-the-mountains-hog-rally/
END:VEVENT
BEGIN:VEVENT
DTSTART;TZID=America/New_York:20250816T120000
DTEND;TZID=America/New_York:20250816T150000
DTSTAMP:20260424T020027
CREATED:20250216T202725Z
LAST-MODIFIED:20250518T173258Z
UID:5418-1755345600-1755356400@www.syracusehog.com
SUMMARY:Biker Saturdays at Performance
DESCRIPTION:Biker Saturdays: music by The Bomb\, food and vendors!
URL:https://www.syracusehog.com/event/biker-saturdays-at-performance-3/
LOCATION:Performance Harley-Davidson\, 807 N. Geddes Street\, Syracuse\, 13204\, United States
CATEGORIES:Performance Harley-Davidson Event
END:VEVENT
BEGIN:VEVENT
DTSTART;TZID=America/New_York:20250821T080000
DTEND;TZID=America/New_York:20250824T170000
DTSTAMP:20260424T020027
CREATED:20250216T214109Z
LAST-MODIFIED:20250216T221906Z
UID:5426-1755763200-1756054800@www.syracusehog.com
SUMMARY:Iron Adventure of New England HOG Rally (NH)
DESCRIPTION:2025 Iron Adventure Rally – Registration and Hotel Information\nHarley-Davidson has officially opened Rally registration for next year. The 2025 Iron Adventure Rally will be in Bartlett\, NH August 21-23. You can find the Rally on the Harley-Davidson website under H.O.G. Rallies or use the following ling or QR Code.\nhttps://members.harley-davidson.com/…/HDMN_Rally…\n\n\nThe host hotel for the rally is the Grand Summit Hotel at Attitash\, 104 Grand Summit Road\, Bartlett NH 03812\, Phone: 603-374-6700\nSpecial rally rates will be available at the hotel from Tuesday August 19 through Sunday August 24\, 2025. To get those rates you need to call the hotel at 603-374-6700 to make the reservation and tell them it is for the 𝐈𝐫𝐨𝐧 𝐀𝐝𝐯𝐞𝐧𝐭𝐮𝐫𝐞 𝐑𝐚𝐥𝐥𝐲.\n\n**We will discuss a meeting place to leave from in upcoming meetings so we can ride together for those of us leaving on Thursday. Feel free to make other plans for those leaving on different days.
URL:https://www.syracusehog.com/event/iron-adventure-of-new-england-hog-rally/
END:VEVENT
BEGIN:VEVENT
DTSTART;TZID=America/New_York:20250831T080000
DTEND;TZID=America/New_York:20250831T170000
DTSTAMP:20260424T020027
CREATED:20250412T165329Z
LAST-MODIFIED:20250412T165631Z
UID:5495-1756627200-1756659600@www.syracusehog.com
SUMMARY:Food & Fund Ride for the Vets
DESCRIPTION:Nonperishable food drive to feed our vets \nCicero American Legion Post 787 Riders- 5575 Legionnaire Drive Cicero\, NY 13039 \nRegistration 8am \nStaging 9:30am \nBlessing 9:45am \nKSU 10am
URL:https://www.syracusehog.com/event/food-fund-ride-for-the-vets/
LOCATION:Cicero American Legion Post 787\, 5575 Legionnaire Drive\, Cicero\, NY\, 13039\, United States
END:VEVENT
END:VCALENDAR